BEGIN:VCALENDAR
VERSION:2.0
PRODID:-//Territorio Saram&aacute; - ECPv6.15.20//NONSGML v1.0//EN
CALSCALE:GREGORIAN
METHOD:PUBLISH
X-ORIGINAL-URL:https://territoriosarama.com
X-WR-CALDESC:Eventos para Territorio Saram&aacute;
REFRESH-INTERVAL;VALUE=DURATION:PT1H
X-Robots-Tag:noindex
X-PUBLISHED-TTL:PT1H
BEGIN:VTIMEZONE
TZID:Europe/Madrid
BEGIN:DAYLIGHT
TZOFFSETFROM:+0100
TZOFFSETTO:+0200
TZNAME:CEST
DTSTART:20250330T010000
END:DAYLIGHT
BEGIN:STANDARD
TZOFFSETFROM:+0200
TZOFFSETTO:+0100
TZNAME:CET
DTSTART:20251026T010000
END:STANDARD
BEGIN:DAYLIGHT
TZOFFSETFROM:+0100
TZOFFSETTO:+0200
TZNAME:CEST
DTSTART:20260329T010000
END:DAYLIGHT
BEGIN:STANDARD
TZOFFSETFROM:+0200
TZOFFSETTO:+0100
TZNAME:CET
DTSTART:20261025T010000
END:STANDARD
BEGIN:DAYLIGHT
TZOFFSETFROM:+0100
TZOFFSETTO:+0200
TZNAME:CEST
DTSTART:20270328T010000
END:DAYLIGHT
BEGIN:STANDARD
TZOFFSETFROM:+0200
TZOFFSETTO:+0100
TZNAME:CET
DTSTART:20271031T010000
END:STANDARD
END:VTIMEZONE
BEGIN:VEVENT
DTSTART;TZID=Europe/Madrid:20260214T100000
DTEND;TZID=Europe/Madrid:20260214T123000
DTSTAMP:20260419T162710
CREATED:20260203T120018Z
LAST-MODIFIED:20260203T121314Z
UID:389-1771063200-1771072200@territoriosarama.com
SUMMARY:Seminario 14 Feb 2026: Adiestramiento Canino
DESCRIPTION:Seminario de adiestramiento canino y socialización “Del caos al control” en El Cañaveral (Madrid).Herramientas prácticas para mejorar la calma\, la dist \nSeminario – Frostie\nancia y la gestión de encuentros con otros perros. \n📅 14 febrero 2026👥 Plazas limitadas \n✅ Info completa y reserva: https://territoriosarama.com/seminario-adiestramiento-canino/📲 WhatsApp: 615 22 00 33
URL:https://territoriosarama.com/event/seminario-14-feb-2026-adiestramiento-canino/
LOCATION:TERRITORIO SARAMA\, Calle Aloe Vera\, 26\, Madrid\, Madrid\, 28052\, Spain
ORGANIZER;CN="TERRITORIO SARAMA SL":MAILTO:territoriosarama@gmail.com
END:VEVENT
END:VCALENDAR